BEGIN:VCALENDAR
VERSION:2.0
PRODID:-//ChamberMaster//Event Calendar 2.0//EN
METHOD:PUBLISH
X-PUBLISHED-TTL:P3D
REFRESH-INTERVAL:P3D
CALSCALE:GREGORIAN
BEGIN:VEVENT
DTSTART:20260519T160000Z
DTEND:20260519T170000Z
X-MICROSOFT-CDO-ALLDAYEVENT:FALSE
SUMMARY:SMA Webinar Series
DESCRIPTION:SMA Webinar Series: A Lunch & Learn presented by Bottleneck Technologies: \nFrom Shop Floor to Smart Floor: A Practical Path to AI & Automation\n\nConnecticut manufacturers are being asked to do more with fewer people and hiring alone isn't the answer. Many shops are still running on disconnected systems\, making it hard to see what's happening\, make quick decisions\, or grow with confidence.\n\nThis session outlines a clear path forward: connect your existing tools into one system\, build real-time dashboards\, and begin implementing automation like RPA with a realistic roadmap toward AI where it actually adds value.\n\nWe'll also touch on predictive tools and CT grant funding opportunities to support the transition.\n\nA grounded\, actionable approach to building a smarter\, more connected manufacturing operation.
X-ALT-DESC;FMTTYPE=text/html:SMA Webinar Series: A Lunch &amp\; Learn presented by Bottleneck Technologies:&nbsp\;\n<p data-end="71" data-start="0"><strong data-end="71" data-start="0">From Shop Floor to Smart Floor: A Practical Path to AI &amp\; Automation</strong></p>\n\n<p data-end="319" data-start="73">Connecticut manufacturers are being asked to do more with fewer people&mdash\;and hiring alone isn&rsquo\;t the answer. Many shops are still running on disconnected systems\, making it hard to see what&rsquo\;s happening\, make quick decisions\, or grow with confidence.</p>\n\n<p data-end="545" data-start="321">This session outlines a clear path forward: connect your existing tools into one system\, build real-time dashboards\, and begin implementing automation like RPA&mdash\;with a realistic roadmap toward AI where it actually adds value.</p>\n\n<p data-end="645" data-start="547">We&rsquo\;ll also touch on predictive tools and CT grant funding opportunities to support the transition.</p>\n\n<p data-end="741" data-is-last-node="" data-is-only-node="" data-start="647">A grounded\, actionable approach to building a smarter\, more connected manufacturing operation.</p>\n
LOCATION:Online Presentation. Link will be sent to all who register.
UID:e.9268.186
SEQUENCE:3
DTSTAMP:20260423T163455Z
URL:http://members.sma-ct.com/events/details/sma-webinar-series-186
END:VEVENT

END:VCALENDAR
